BEGIN:VCALENDAR
VERSION:2.0
PRODID:-//appserver-d557922e-nginx-62ff6b27fb0c4ee6b6b423109862fd3c//NONSGM
 L kigkonsult.se iCalcreator 2.26.9//
CALSCALE:GREGORIAN
METHOD:PUBLISH
X-FROM-URL:https://1048.cupe.ca
X-WR-TIMEZONE:America/Vancouver
BEGIN:VTIMEZONE
TZID:America/Vancouver
X-LIC-LOCATION:America/Vancouver
BEGIN:STANDARD
DTSTART:20251102T020000
TZOFFSETFROM:-0700
TZOFFSETTO:-0800
RDATE:20261101T020000
TZNAME:PST
END:STANDARD
BEGIN:DAYLIGHT
DTSTART:20260308T020000
TZOFFSETFROM:-0800
TZOFFSETTO:-0700
RDATE:20270314T020000
TZNAME:PDT
END:DAYLIGHT
END:VTIMEZONE
BEGIN:VEVENT
UID:ai1ec-901@1048.cupe.ca
DTSTAMP:20260424T144254Z
CATEGORIES;LANGUAGE=en-US:Committee Meetings
CONTACT:jd@cupe1048.ca
DTSTART;TZID=America/Vancouver:20250808T083000
DTEND;TZID=America/Vancouver:20250808T113000
LOCATION:CUPE 1048 Office @ 300 Brunswick St
RRULE:FREQ=WEEKLY;UNTIL=20261225T235959Z;BYDAY=WE;WKST=SU
SUMMARY:Job Description Committee Meeting
URL:https://1048.cupe.ca/event/job-description-committee-meeting/
X-COST-TYPE:free
END:VEVENT
BEGIN:VEVENT
UID:ai1ec-905@1048.cupe.ca
DTSTAMP:20260424T144254Z
CATEGORIES:
CONTACT:
DTSTART;TZID=America/Vancouver:20250812T080000
DTEND;TZID=America/Vancouver:20250813T160000
SUMMARY:CUPE 1048 Audit for 2024
URL:https://1048.cupe.ca/event/cupe-1048-audit-for-2024/
X-COST-TYPE:free
END:VEVENT
BEGIN:VEVENT
UID:ai1ec-899@1048.cupe.ca
DTSTAMP:20260424T144254Z
CATEGORIES:
CONTACT:
DTSTART;TZID=America/Vancouver:20250812T130000
DTEND;TZID=America/Vancouver:20250812T143000
LOCATION:City Hall\, 5th Floor
RRULE:FREQ=MONTHLY;BYDAY=2TU
SUMMARY:Central Grievance Comittee Meeting
URL:https://1048.cupe.ca/event/central-grievance-comittee-meeting/
X-COST-TYPE:free
END:VEVENT
BEGIN:VEVENT
UID:ai1ec-902@1048.cupe.ca
DTSTAMP:20260424T144254Z
CATEGORIES:
CONTACT:
DTSTART;TZID=America/Vancouver:20250814T130000
DTEND;TZID=America/Vancouver:20250814T153000
LOCATION:CUPE 1048 Office @ 300 Brunswick St
SUMMARY:Executive Meeting
URL:https://1048.cupe.ca/event/executive-meeting/
X-COST-TYPE:free
END:VEVENT
BEGIN:VEVENT
UID:ai1ec-921@1048.cupe.ca
DTSTAMP:20260424T144254Z
CATEGORIES:
CONTACT:
DTSTART;TZID=America/Vancouver:20250821T080000
DTEND;TZID=America/Vancouver:20250821T160000
SUMMARY:Hours of Work Umpire Meeting – Schedule D – Data Processors
URL:https://1048.cupe.ca/event/hours-of-work-umpire-meeting-schedule-d-data
 -processors/
X-COST-TYPE:free
END:VEVENT
BEGIN:VEVENT
UID:ai1ec-904@1048.cupe.ca
DTSTAMP:20260424T144254Z
CATEGORIES:
CONTACT:
DTSTART;TZID=America/Vancouver:20250821T140000
DTEND;TZID=America/Vancouver:20250821T153000
LOCATION:2nd Floor / 2A
SUMMARY:Payroll Calculation Meeting
URL:https://1048.cupe.ca/event/payroll-calculation-meeting/
X-COST-TYPE:free
END:VEVENT
BEGIN:VEVENT
UID:ai1ec-906@1048.cupe.ca
DTSTAMP:20260424T144254Z
CATEGORIES:
CONTACT:
DTSTART;TZID=America/Vancouver:20250822T170000
DTEND;TZID=America/Vancouver:20250822T210000
LOCATION:Lheidli T'enneh Memorial Park
SUMMARY:CUPE Concert in the Park!
URL:https://1048.cupe.ca/event/cupe-concert-in-the-park/
X-COST-TYPE:free
END:VEVENT
BEGIN:VEVENT
UID:ai1ec-936@1048.cupe.ca
DTSTAMP:20260424T144254Z
CATEGORIES;LANGUAGE=en-US:Grievance Related Meetings
CONTACT:
DTSTART;TZID=America/Vancouver:20250826T133000
DTEND;TZID=America/Vancouver:20250826T143000
LOCATION:City Yard Meeting Room @ 3990 18th Ave
SUMMARY:Meeting with Employer
URL:https://1048.cupe.ca/event/meeting-with-employer/
X-COST-TYPE:free
END:VEVENT
BEGIN:VEVENT
UID:ai1ec-937@1048.cupe.ca
DTSTAMP:20260424T144254Z
CATEGORIES;LANGUAGE=en-US:President Meeting
CONTACT:
DTSTART;TZID=America/Vancouver:20250827T140000
DTEND;TZID=America/Vancouver:20250827T150000
LOCATION:CUPE National Office
SUMMARY:Meeting with CUPE National
URL:https://1048.cupe.ca/event/meeting-with-cupe-national/
X-COST-TYPE:free
END:VEVENT
BEGIN:VEVENT
UID:ai1ec-938@1048.cupe.ca
DTSTAMP:20260424T144254Z
CATEGORIES:
CONTACT:
DTSTART;TZID=America/Vancouver:20250831T140000
DTEND;TZID=America/Vancouver:20250831T160000
LOCATION:Prince George Aquatic Center & Canfor Leisure Pool
SUMMARY:Free Community Swim
URL:https://1048.cupe.ca/event/free-community-swim/
X-COST-TYPE:free
END:VEVENT
BEGIN:VEVENT
UID:ai1ec-900@1048.cupe.ca
DTSTAMP:20260424T144254Z
CATEGORIES:
CONTACT:
DTSTART;TZID=America/Vancouver:20250904T103000
DTEND;TZID=America/Vancouver:20250904T120000
EXRULE:FREQ=YEARLY;BYDAY=1TH;BYMONTH=7,8
RRULE:FREQ=MONTHLY;BYDAY=1TH
SUMMARY:Labour Management Meeting
URL:https://1048.cupe.ca/event/labour-management-meeting/
X-COST-TYPE:free
END:VEVENT
BEGIN:VEVENT
UID:ai1ec-923@1048.cupe.ca
DTSTAMP:20260424T144254Z
CATEGORIES;LANGUAGE=en-US:Executive Meetings
CONTACT:
DTSTART;TZID=America/Vancouver:20250904T133000
DTEND;TZID=America/Vancouver:20250904T153000
LOCATION:1048 Office
SUMMARY:Executive Meeting
URL:https://1048.cupe.ca/event/executive-meeting-2/
X-COST-TYPE:free
END:VEVENT
BEGIN:VEVENT
UID:ai1ec-890@1048.cupe.ca
DTSTAMP:20260424T144254Z
CATEGORIES:
CONTACT:Executive Board 1048\; 2509861995\; membership@cupe1048.ca
DTSTART;TZID=America/Vancouver:20250909T090000
DTEND;TZID=America/Vancouver:20250909T160000
LOCATION:Virtual/Online
SUMMARY:Shop Steward Training Opportunity
URL:https://1048.cupe.ca/event/shop-steward-training-opportunity/
X-COST-TYPE:free
END:VEVENT
BEGIN:VEVENT
UID:ai1ec-941@1048.cupe.ca
DTSTAMP:20260424T144254Z
CATEGORIES:
CONTACT:
DTSTART;TZID=America/Vancouver:20250909T090000
DTEND;TZID=America/Vancouver:20250909T100000
LOCATION:City Hall 5th Floor
SUMMARY:Step 3 Grievances Meeting
URL:https://1048.cupe.ca/event/step-3-grievances-meeting/
X-COST-TYPE:free
END:VEVENT
BEGIN:VEVENT
UID:ai1ec-942@1048.cupe.ca
DTSTAMP:20260424T144254Z
CATEGORIES:
CONTACT:
DTSTART;TZID=America/Vancouver:20250909T100000
DTEND;TZID=America/Vancouver:20250909T103000
SUMMARY:President & HR Manager Meeting
URL:https://1048.cupe.ca/event/president-hr-manager-meeting/
X-COST-TYPE:free
END:VEVENT
BEGIN:VEVENT
UID:ai1ec-944@1048.cupe.ca
DTSTAMP:20260424T144254Z
CATEGORIES:
CONTACT:
DTSTART;TZID=America/Vancouver:20250912T110000
DTEND;TZID=America/Vancouver:20250912T120000
LOCATION:3rd Floor/HR Meeting Room
SUMMARY:Collective Agreement Review
URL:https://1048.cupe.ca/event/collective-agreement-review/
X-COST-TYPE:free
END:VEVENT
BEGIN:VEVENT
UID:ai1ec-924@1048.cupe.ca
DTSTAMP:20260424T144254Z
CATEGORIES;LANGUAGE=en-US:Executive Meetings
CONTACT:
DTSTART;TZID=America/Vancouver:20250916T130000
DTEND;TZID=America/Vancouver:20250916T160000
LOCATION:1048 Office
SUMMARY:Executive Meeting
URL:https://1048.cupe.ca/event/executive-meeting-3/
X-COST-TYPE:free
END:VEVENT
BEGIN:VEVENT
UID:ai1ec-885@1048.cupe.ca
DTSTAMP:20260424T144254Z
CATEGORIES;LANGUAGE=en-US:General Meeting
CONTACT:Reid Madisen-Boyce\; 2509861995\; president@cupe1048.ca
DTSTART;TZID=America/Vancouver:20250925T171500
DTEND;TZID=America/Vancouver:20250925T190000
LOCATION:VIRTUAL
SUMMARY:General Meeting
URL:https://1048.cupe.ca/event/general-meeting-2/
X-COST-TYPE:free
END:VEVENT
BEGIN:VEVENT
UID:ai1ec-957@1048.cupe.ca
DTSTAMP:20260424T144254Z
CATEGORIES:
CONTACT:
DTSTART;TZID=America/Vancouver:20251023T171500
DTEND;TZID=America/Vancouver:20251023T181500
LOCATION:Council Chambers 2nd Floor
SUMMARY:October General Meeting
URL:https://1048.cupe.ca/event/october-general-meeting/
X-COST-TYPE:free
END:VEVENT
BEGIN:VEVENT
UID:ai1ec-960@1048.cupe.ca
DTSTAMP:20260424T144254Z
CATEGORIES:
CONTACT:
DTSTART;TZID=America/Vancouver:20251028T083000
DTEND;TZID=America/Vancouver:20251028T113000
LOCATION:1048 Office
RRULE:FREQ=WEEKLY;UNTIL=20270825T235959Z;BYDAY=TU;WKST=SU
SUMMARY:Grievance Committee Meeting
URL:https://1048.cupe.ca/event/president-vice-presidents-in-office/
X-COST-TYPE:free
END:VEVENT
BEGIN:VEVENT
UID:ai1ec-962@1048.cupe.ca
DTSTAMP:20260424T144254Z
CATEGORIES:
CONTACT:
DTSTART;TZID=America/Vancouver:20251104T103000
DTEND;TZID=America/Vancouver:20251104T113000
LOCATION:RCMP Downtown Detachment
SUMMARY:Grievance Meeting
URL:https://1048.cupe.ca/event/grievance-meeting/
X-COST-TYPE:free
END:VEVENT
BEGIN:VEVENT
UID:ai1ec-959@1048.cupe.ca
DTSTAMP:20260424T144254Z
CATEGORIES:
CONTACT:
DTSTART;TZID=America/Vancouver:20251104T130000
DTEND;TZID=America/Vancouver:20251104T160000
LOCATION:1048 Office
SUMMARY:Executive Meeting
URL:https://1048.cupe.ca/event/executive-meeting-4/
X-COST-TYPE:free
END:VEVENT
BEGIN:VEVENT
UID:ai1ec-963@1048.cupe.ca
DTSTAMP:20260424T144254Z
CATEGORIES:
CONTACT:
DTSTART;TZID=America/Vancouver:20251118T080000
DTEND;TZID=America/Vancouver:20251118T160000
LOCATION:Ramada Plaza Hotel
SUMMARY:NADC Fall School Day 1
URL:https://1048.cupe.ca/event/nadc-fall-school-day-1/
X-COST-TYPE:free
END:VEVENT
BEGIN:VEVENT
UID:ai1ec-964@1048.cupe.ca
DTSTAMP:20260424T144254Z
CATEGORIES:
CONTACT:
DTSTART;TZID=America/Vancouver:20251119T080000
DTEND;TZID=America/Vancouver:20251119T160000
LOCATION:Ramada Plaza Hotel
SUMMARY:NADC Fall School Day 2
URL:https://1048.cupe.ca/event/nadc-fall-school-day-2/
X-COST-TYPE:free
END:VEVENT
BEGIN:VEVENT
UID:ai1ec-965@1048.cupe.ca
DTSTAMP:20260424T144254Z
CATEGORIES:
CONTACT:
DTSTART;TZID=America/Vancouver:20251120T080000
DTEND;TZID=America/Vancouver:20251120T160000
LOCATION:Ramada Plaza Hotel
SUMMARY:NADC Fall School Day 3
URL:https://1048.cupe.ca/event/nadc-fall-school-day-3/
X-COST-TYPE:free
END:VEVENT
BEGIN:VEVENT
UID:ai1ec-966@1048.cupe.ca
DTSTAMP:20260424T144254Z
CATEGORIES:
CONTACT:
DTSTART;TZID=America/Vancouver:20251121T080000
DTEND;TZID=America/Vancouver:20251121T160000
LOCATION:Ramada Plaza Hotel
SUMMARY:NADC Fall School Day 4
URL:https://1048.cupe.ca/event/nadc-fall-school-day-4/
X-COST-TYPE:free
END:VEVENT
BEGIN:VEVENT
UID:ai1ec-1006@1048.cupe.ca
DTSTAMP:20260424T144254Z
CATEGORIES:
CONTACT:
DTSTART;TZID=America/Vancouver:20251127T171500
DTEND;TZID=America/Vancouver:20251127T184500
LOCATION:Canfor Leisure Pool
SUMMARY:November General Meeting
URL:https://1048.cupe.ca/event/november-general-meeting/
X-COST-TYPE:free
END:VEVENT
BEGIN:VEVENT
UID:ai1ec-1069@1048.cupe.ca
DTSTAMP:20260424T144254Z
CATEGORIES:
CONTACT:
DTSTART;TZID=America/Vancouver:20260114T180000
DTEND;TZID=America/Vancouver:20260114T190000
SUMMARY:Special 2026 Budget Meeting
URL:https://1048.cupe.ca/event/special-2026-budget-meeting/
X-COST-TYPE:free
END:VEVENT
BEGIN:VEVENT
UID:ai1ec-1103@1048.cupe.ca
DTSTAMP:20260424T144254Z
CATEGORIES:
CONTACT:
DTSTART;TZID=America/Vancouver:20260224T100000
DTEND;TZID=America/Vancouver:20260224T120000
SUMMARY:Emergency Executive Meeting
URL:https://1048.cupe.ca/event/emergency-executive-meeting/
X-COST-TYPE:free
END:VEVENT
BEGIN:VEVENT
UID:ai1ec-1098@1048.cupe.ca
DTSTAMP:20260424T144254Z
CATEGORIES:
CONTACT:
DTSTART;TZID=America/Vancouver:20260226T171500
DTEND;TZID=America/Vancouver:20260226T184500
SUMMARY:February General Meeting!
URL:https://1048.cupe.ca/event/february-general-meeting/
X-COST-TYPE:free
END:VEVENT
BEGIN:VEVENT
UID:ai1ec-1116@1048.cupe.ca
DTSTAMP:20260424T144254Z
CATEGORIES:
CONTACT:
DTSTART;TZID=America/Vancouver:20260303T130000
DTEND;TZID=America/Vancouver:20260303T153000
SUMMARY:Executive Committee Meeting
URL:https://1048.cupe.ca/event/executive-committee-meeting-3/
X-COST-TYPE:free
END:VEVENT
BEGIN:VEVENT
UID:ai1ec-1120@1048.cupe.ca
DTSTAMP:20260424T144254Z
CATEGORIES;LANGUAGE=en-US:Committee Meetings
CONTACT:
DTSTART;TZID=America/Vancouver:20260407T120000
DTEND;TZID=America/Vancouver:20260407T130000
SUMMARY:Shop Stewards Committee Meeting
URL:https://1048.cupe.ca/event/shop-stewards-committee-meeting/
X-COST-TYPE:free
END:VEVENT
BEGIN:VEVENT
UID:ai1ec-1114@1048.cupe.ca
DTSTAMP:20260424T144254Z
CATEGORIES:
CONTACT:
DTSTART;TZID=America/Vancouver:20260407T130000
DTEND;TZID=America/Vancouver:20260407T153000
RRULE:FREQ=MONTHLY;BYDAY=1TU
SUMMARY:Executive Committee Meeting
URL:https://1048.cupe.ca/event/executive-committee-meeting/
X-COST-TYPE:free
END:VEVENT
BEGIN:VEVENT
UID:ai1ec-1122@1048.cupe.ca
DTSTAMP:20260424T144254Z
CATEGORIES:
CONTACT:
DTSTART;TZID=America/Vancouver:20260409T133000
DTEND;TZID=America/Vancouver:20260409T153000
RRULE:FREQ=WEEKLY;INTERVAL=2;BYDAY=TH;WKST=SU
SUMMARY:Finance Committee
URL:https://1048.cupe.ca/event/finance-committee/
X-COST-TYPE:free
END:VEVENT
BEGIN:VEVENT
UID:ai1ec-1118@1048.cupe.ca
DTSTAMP:20260424T144254Z
CATEGORIES:
CONTACT:
DTSTART;TZID=America/Vancouver:20260413T153000
DTEND;TZID=America/Vancouver:20260413T173000
RDATE;TZID=America/Vancouver:20260413T153000
RDATE;TZID=America/Vancouver:20260427T153000
RDATE;TZID=America/Vancouver:20260511T153000
RDATE;TZID=America/Vancouver:20260525T153000
RDATE;TZID=America/Vancouver:20260608T153000
RDATE;TZID=America/Vancouver:20260622T153000
RDATE;TZID=America/Vancouver:20260706T153000
RDATE;TZID=America/Vancouver:20260720T153000
RDATE;TZID=America/Vancouver:20260817T153000
RDATE;TZID=America/Vancouver:20260831T153000
RDATE;TZID=America/Vancouver:20260909T153000
RDATE;TZID=America/Vancouver:20260923T153000
RDATE;TZID=America/Vancouver:20261005T153000
RDATE;TZID=America/Vancouver:20261116T153000
RDATE;TZID=America/Vancouver:20261130T153000
RDATE;TZID=America/Vancouver:20261214T153000
SUMMARY:Municipal Policy and Advocacy Committee Meeting
URL:https://1048.cupe.ca/event/municipal-policy-and-advocacy-committee-meet
 ing/
X-COST-TYPE:free
END:VEVENT
BEGIN:VEVENT
UID:ai1ec-1117@1048.cupe.ca
DTSTAMP:20260424T144254Z
CATEGORIES;LANGUAGE=en-US:Executive Meetings
CONTACT:
DTSTART;TZID=America/Vancouver:20260421T130000
DTEND;TZID=America/Vancouver:20260421T150000
RRULE:FREQ=MONTHLY;BYDAY=3TU
SUMMARY:Executive Committee Meeting
URL:https://1048.cupe.ca/event/executive-committee-meeting-2/
X-COST-TYPE:free
END:VEVENT
BEGIN:VEVENT
UID:ai1ec-1127@1048.cupe.ca
DTSTAMP:20260424T144254Z
CATEGORIES;LANGUAGE=en-US:Committee Meetings
CONTACT:
DTSTART;TZID=America/Vancouver:20260423T110000
DTEND;TZID=America/Vancouver:20260423T130000
LOCATION:CUPE 1048 Office @ 300 Brunswick St
RRULE:FREQ=MONTHLY;BYDAY=4TH
SUMMARY:Negotiation Committee Meeting
URL:https://1048.cupe.ca/event/negotiation-committee-meeting-proposed/
X-COST-TYPE:free
END:VEVENT
BEGIN:VEVENT
UID:ai1ec-1121@1048.cupe.ca
DTSTAMP:20260424T144254Z
CATEGORIES;LANGUAGE=en-US:General Meeting
CONTACT:
DTSTART;TZID=America/Vancouver:20260423T171500
DTEND;TZID=America/Vancouver:20260423T184500
EXRULE:FREQ=YEARLY;BYDAY=4TH;BYMONTH=7,8,12
RRULE:FREQ=MONTHLY;BYDAY=4TH
SUMMARY:General Membership Meeting
URL:https://1048.cupe.ca/event/general-membership-meeting-2/
X-COST-TYPE:free
END:VEVENT
BEGIN:VEVENT
UID:ai1ec-1119@1048.cupe.ca
DTSTAMP:20260424T144254Z
CATEGORIES:
CONTACT:
DTSTART;TZID=America/Vancouver:20260428T130000
DTEND;TZID=America/Vancouver:20260428T153000
RRULE:FREQ=MONTHLY;BYDAY=-1TU
SUMMARY:Bylaw Committee Meeting
URL:https://1048.cupe.ca/event/bylaw-committee-meeting/
X-COST-TYPE:free
END:VEVENT
BEGIN:VEVENT
UID:ai1ec-1125@1048.cupe.ca
DTSTAMP:20260424T144254Z
CATEGORIES:
CONTACT:
DTSTART;TZID=America/Vancouver:20260514T083000
DTEND;TZID=America/Vancouver:20260514T100000
LOCATION:CUPE 1048 Office @ 300 Brunswick St
RRULE:FREQ=MONTHLY;BYDAY=2TH
SUMMARY:Shop Stewards Committee Meeting
URL:https://1048.cupe.ca/event/shop-stewards-committee-meeting-2/
X-COST-TYPE:free
END:VEVENT
BEGIN:VEVENT
UID:ai1ec-1129@1048.cupe.ca
DTSTAMP:20260424T144254Z
CATEGORIES;LANGUAGE=en-US:Committee Meetings
CONTACT:
DTSTART;TZID=America/Vancouver:20260514T110000
DTEND;TZID=America/Vancouver:20260514T130000
RRULE:FREQ=MONTHLY;BYDAY=2TH
SUMMARY:Negotiation Committee Meeting
URL:https://1048.cupe.ca/event/negotiation-committee-meeting-proposed-2/
X-COST-TYPE:free
END:VEVENT
END:VCALENDAR
